BEGIN:VCALENDAR
VERSION:2.0
PRODID:-//KSC Motor Jena e.V. - ECPv6.15.20//NONSGML v1.0//EN
CALSCALE:GREGORIAN
METHOD:PUBLISH
X-WR-CALNAME:KSC Motor Jena e.V.
X-ORIGINAL-URL:https://www.jena-ringt.de
X-WR-CALDESC:Veranstaltungen für KSC Motor Jena e.V.
REFRESH-INTERVAL;VALUE=DURATION:PT1H
X-Robots-Tag:noindex
X-PUBLISHED-TTL:PT1H
BEGIN:VTIMEZONE
TZID:Europe/Berlin
BEGIN:DAYLIGHT
TZOFFSETFROM:+0100
TZOFFSETTO:+0200
TZNAME:CEST
DTSTART:20240331T010000
END:DAYLIGHT
BEGIN:STANDARD
TZOFFSETFROM:+0200
TZOFFSETTO:+0100
TZNAME:CET
DTSTART:20241027T010000
END:STANDARD
BEGIN:DAYLIGHT
TZOFFSETFROM:+0100
TZOFFSETTO:+0200
TZNAME:CEST
DTSTART:20250330T010000
END:DAYLIGHT
BEGIN:STANDARD
TZOFFSETFROM:+0200
TZOFFSETTO:+0100
TZNAME:CET
DTSTART:20251026T010000
END:STANDARD
BEGIN:DAYLIGHT
TZOFFSETFROM:+0100
TZOFFSETTO:+0200
TZNAME:CEST
DTSTART:20260329T010000
END:DAYLIGHT
BEGIN:STANDARD
TZOFFSETFROM:+0200
TZOFFSETTO:+0100
TZNAME:CET
DTSTART:20261025T010000
END:STANDARD
END:VTIMEZONE
BEGIN:VEVENT
DTSTART;VALUE=DATE:20251102
DTEND;VALUE=DATE:20251103
DTSTAMP:20260422T105201
CREATED:20251023T180605Z
LAST-MODIFIED:20251023T203159Z
UID:3684-1762041600-1762127999@www.jena-ringt.de
SUMMARY:Ruppbergpokal
DESCRIPTION:
URL:https://www.jena-ringt.de/event/ruppbergpokal/
LOCATION:Dreifelderhalle Zella-Mehlis\, An der Schillerschule 23\, Zella-Mehlis\, Thüringen\, 99544\, Deutschland
CATEGORIES:Nachwuchsturnier
END:VEVENT
BEGIN:VEVENT
DTSTART;TZID=Europe/Berlin:20251108T180000
DTEND;TZID=Europe/Berlin:20251108T200000
DTSTAMP:20260422T105201
CREATED:20250712T105112Z
LAST-MODIFIED:20250712T112602Z
UID:3561-1762624800-1762632000@www.jena-ringt.de
SUMMARY:Heimkampf Thüringenliga gegen KSC Apolda
DESCRIPTION:
URL:https://www.jena-ringt.de/event/heimkampf-thueringenliga-gegen-ksc-apolda/
LOCATION:Thüringen
CATEGORIES:Thüringenliga 2025
END:VEVENT
BEGIN:VEVENT
DTSTART;TZID=Europe/Berlin:20251115T180000
DTEND;TZID=Europe/Berlin:20251115T200000
DTSTAMP:20260422T105201
CREATED:20250712T105159Z
LAST-MODIFIED:20250712T112627Z
UID:3563-1763229600-1763236800@www.jena-ringt.de
SUMMARY:Auswärtskampf Thüringenliga beim 1. SV Pößneck
DESCRIPTION:
URL:https://www.jena-ringt.de/event/auswaertskampf-thueringenliga-beim-1-sv-poessneck/
LOCATION:Thüringen
CATEGORIES:Thüringenliga 2025
END:VEVENT
BEGIN:VEVENT
DTSTART;VALUE=DATE:20251122
DTEND;VALUE=DATE:20251123
DTSTAMP:20260422T105201
CREATED:20251023T180705Z
LAST-MODIFIED:20251023T180705Z
UID:3686-1763769600-1763855999@www.jena-ringt.de
SUMMARY:Ladys Open
DESCRIPTION:
URL:https://www.jena-ringt.de/event/ladys-open/
LOCATION:Chemnitz
END:VEVENT
BEGIN:VEVENT
DTSTART;VALUE=DATE:20251129
DTEND;VALUE=DATE:20251130
DTSTAMP:20260422T105201
CREATED:20251023T180751Z
LAST-MODIFIED:20251023T203616Z
UID:3690-1764374400-1764460799@www.jena-ringt.de
SUMMARY:Dieter-Almrodt-Gedächtnisturnier
DESCRIPTION:
URL:https://www.jena-ringt.de/event/dieter-almrodt-gedaechtnisturnier/
LOCATION:Dreifeldersporthalle Waltershausen\, Schönrasen 7\, Waltershausen\, Thüringen\, 99880\, Deutschland
CATEGORIES:Nachwuchsturnier
END:VEVENT
BEGIN:VEVENT
DTSTART;TZID=Europe/Berlin:20251129T180000
DTEND;TZID=Europe/Berlin:20251129T200000
DTSTAMP:20260422T105201
CREATED:20250712T105306Z
LAST-MODIFIED:20250712T112347Z
UID:3565-1764439200-1764446400@www.jena-ringt.de
SUMMARY:Auswärtskampf Thüringenliga beim RSC Erfurt
DESCRIPTION:
URL:https://www.jena-ringt.de/event/auswaertskampf-thueringenliga-beim-rsc-erfurt/
LOCATION:Thüringen
CATEGORIES:Thüringenliga 2025
END:VEVENT
END:VCALENDAR